BEGIN:VCALENDAR
VERSION:2.0
PRODID:-//Norfolk County Golf Union - ECPv6.13.2.1//NONSGML v1.0//EN
CALSCALE:GREGORIAN
METHOD:PUBLISH
X-ORIGINAL-URL:https://norfolkcountygolfunion.co.uk
X-WR-CALDESC:Events for Norfolk County Golf Union
REFRESH-INTERVAL;VALUE=DURATION:PT1H
X-Robots-Tag:noindex
X-PUBLISHED-TTL:PT1H
BEGIN:VTIMEZONE
TZID:Europe/London
BEGIN:DAYLIGHT
TZOFFSETFROM:+0000
TZOFFSETTO:+0100
TZNAME:BST
DTSTART:20240331T010000
END:DAYLIGHT
BEGIN:STANDARD
TZOFFSETFROM:+0100
TZOFFSETTO:+0000
TZNAME:GMT
DTSTART:20241027T010000
END:STANDARD
BEGIN:DAYLIGHT
TZOFFSETFROM:+0000
TZOFFSETTO:+0100
TZNAME:BST
DTSTART:20250330T010000
END:DAYLIGHT
BEGIN:STANDARD
TZOFFSETFROM:+0100
TZOFFSETTO:+0000
TZNAME:GMT
DTSTART:20251026T010000
END:STANDARD
END:VTIMEZONE
BEGIN:VEVENT
DTSTART;VALUE=DATE:20240629
DTEND;VALUE=DATE:20250630
DTSTAMP:20260424T120630
CREATED:20250331T071122Z
LAST-MODIFIED:20250331T071122Z
UID:10000641-1719619200-1751241599@norfolkcountygolfunion.co.uk
SUMMARY:Scratch K/O 2nd Round Ends
DESCRIPTION:
URL:https://norfolkcountygolfunion.co.uk/event/scratch-k-o-2nd-round-ends/
CATEGORIES:Mens
END:VEVENT
BEGIN:VEVENT
DTSTART;VALUE=DATE:20241002
DTEND;VALUE=DATE:20241003
DTSTAMP:20260424T120630
CREATED:20240121T103337Z
LAST-MODIFIED:20240402T130533Z
UID:10000595-1727827200-1727913599@norfolkcountygolfunion.co.uk
SUMMARY:Seniors v Leicestershire & Rutland
DESCRIPTION:
URL:https://norfolkcountygolfunion.co.uk/event/seniors-v-leicestershire-rutland/
LOCATION:Kings Lynn Golf Club\, Castle Rising\, Kings Lynn\, Norfolk\, PE31 6BD\, 01553631654
CATEGORIES:Seniors
GEO:52.7926786;0.4703697
X-APPLE-STRUCTURED-LOCATION;VALUE=URI;X-ADDRESS=Kings Lynn Golf Club Castle Rising Kings Lynn Norfolk PE31 6BD 01553631654;X-APPLE-RADIUS=500;X-TITLE=Castle Rising\, Kings Lynn\, Norfolk\, PE31 6BD:geo:0.4703697,52.7926786
END:VEVENT
BEGIN:VEVENT
DTSTART;VALUE=DATE:20241012
DTEND;VALUE=DATE:20241014
DTSTAMP:20260424T120630
CREATED:20240121T103337Z
LAST-MODIFIED:20240121T103337Z
UID:10000596-1728691200-1728863999@norfolkcountygolfunion.co.uk
SUMMARY:Match Play Championships
DESCRIPTION:
URL:https://norfolkcountygolfunion.co.uk/event/match-play-championships/
LOCATION:Heacham Manor Golf Club\, Hunstanton Road\, Heacham\, Norfolk\, PE31 7JX\, 01485536030
CATEGORIES:Mens
GEO:52.9192907;0.4964773
X-APPLE-STRUCTURED-LOCATION;VALUE=URI;X-ADDRESS=Heacham Manor Golf Club Hunstanton Road Heacham Norfolk PE31 7JX 01485536030;X-APPLE-RADIUS=500;X-TITLE=Hunstanton Road\, Heacham\, Norfolk\, PE31 7JX:geo:0.4964773,52.9192907
END:VEVENT
END:VCALENDAR