BEGIN:VCALENDAR
VERSION:2.0
PRODID:-//Norfolk County Golf Union - ECPv6.13.2.1//NONSGML v1.0//EN
CALSCALE:GREGORIAN
METHOD:PUBLISH
X-WR-CALNAME:Norfolk County Golf Union
X-ORIGINAL-URL:https://norfolkcountygolfunion.co.uk
X-WR-CALDESC:Events for Norfolk County Golf Union
REFRESH-INTERVAL;VALUE=DURATION:PT1H
X-Robots-Tag:noindex
X-PUBLISHED-TTL:PT1H
BEGIN:VTIMEZONE
TZID:Europe/London
BEGIN:DAYLIGHT
TZOFFSETFROM:+0000
TZOFFSETTO:+0100
TZNAME:BST
DTSTART:20230326T010000
END:DAYLIGHT
BEGIN:STANDARD
TZOFFSETFROM:+0100
TZOFFSETTO:+0000
TZNAME:GMT
DTSTART:20231029T010000
END:STANDARD
BEGIN:DAYLIGHT
TZOFFSETFROM:+0000
TZOFFSETTO:+0100
TZNAME:BST
DTSTART:20240331T010000
END:DAYLIGHT
BEGIN:STANDARD
TZOFFSETFROM:+0100
TZOFFSETTO:+0000
TZNAME:GMT
DTSTART:20241027T010000
END:STANDARD
END:VTIMEZONE
BEGIN:VEVENT
DTSTART;VALUE=DATE:20240901
DTEND;VALUE=DATE:20240902
DTSTAMP:20260424T174703
CREATED:20240121T103320Z
LAST-MODIFIED:20240121T103320Z
UID:10000587-1725148800-1725235199@norfolkcountygolfunion.co.uk
SUMMARY:County 1st Team v Lincolnshire
DESCRIPTION:
URL:https://norfolkcountygolfunion.co.uk/event/county-1st-team-v-lincolnshire-2/
LOCATION:Great Yarmouth & Caister\, Beach House\, Caister on Sea\, Great Yarmouth\, Norfolk\, 01493728699
CATEGORIES:Mens
GEO:52.6394911;1.7350159
X-APPLE-STRUCTURED-LOCATION;VALUE=URI;X-ADDRESS=Great Yarmouth & Caister Beach House Caister on Sea Great Yarmouth Norfolk 01493728699;X-APPLE-RADIUS=500;X-TITLE=Beach House\, Caister on Sea\, Great Yarmouth\, Norfolk:geo:1.7350159,52.6394911
END:VEVENT
BEGIN:VEVENT
DTSTART;VALUE=DATE:20240721
DTEND;VALUE=DATE:20240722
DTSTAMP:20260424T174703
CREATED:20240121T103247Z
LAST-MODIFIED:20240121T103247Z
UID:10000562-1721520000-1721606399@norfolkcountygolfunion.co.uk
SUMMARY:Coronation Salvers
DESCRIPTION:18 holes Stableford FoursomesGolf Genius Event Code: pywjpaGolf Genius Event Portal: https://www.golfgenius.com/ggid/pywjpa
URL:https://norfolkcountygolfunion.co.uk/event/coronation-salvers-3/
LOCATION:Great Yarmouth & Caister\, Beach House\, Caister on Sea\, Great Yarmouth\, Norfolk\, 01493728699
CATEGORIES:Mens
GEO:52.6394911;1.7350159
X-APPLE-STRUCTURED-LOCATION;VALUE=URI;X-ADDRESS=Great Yarmouth & Caister Beach House Caister on Sea Great Yarmouth Norfolk 01493728699;X-APPLE-RADIUS=500;X-TITLE=Beach House\, Caister on Sea\, Great Yarmouth\, Norfolk:geo:1.7350159,52.6394911
END:VEVENT
BEGIN:VEVENT
DTSTART;VALUE=DATE:20240707
DTEND;VALUE=DATE:20240708
DTSTAMP:20260424T174703
CREATED:20240121T103241Z
LAST-MODIFIED:20240121T103241Z
UID:10000557-1720310400-1720396799@norfolkcountygolfunion.co.uk
SUMMARY:County 1st Team v Suffolk
DESCRIPTION:
URL:https://norfolkcountygolfunion.co.uk/event/county-1st-team-v-suffolk-2/
LOCATION:Great Yarmouth & Caister\, Beach House\, Caister on Sea\, Great Yarmouth\, Norfolk\, 01493728699
CATEGORIES:Mens
GEO:52.6394911;1.7350159
X-APPLE-STRUCTURED-LOCATION;VALUE=URI;X-ADDRESS=Great Yarmouth & Caister Beach House Caister on Sea Great Yarmouth Norfolk 01493728699;X-APPLE-RADIUS=500;X-TITLE=Beach House\, Caister on Sea\, Great Yarmouth\, Norfolk:geo:1.7350159,52.6394911
END:VEVENT
BEGIN:VEVENT
DTSTART;VALUE=DATE:20240602
DTEND;VALUE=DATE:20240603
DTSTAMP:20260424T174703
CREATED:20240121T103152Z
LAST-MODIFIED:20240121T103152Z
UID:10000536-1717286400-1717372799@norfolkcountygolfunion.co.uk
SUMMARY:County 1st Team v Northamptonshire
DESCRIPTION:
URL:https://norfolkcountygolfunion.co.uk/event/county-1st-team-v-northamptonshire-2/
LOCATION:Great Yarmouth & Caister\, Beach House\, Caister on Sea\, Great Yarmouth\, Norfolk\, 01493728699
CATEGORIES:Mens
GEO:52.6394911;1.7350159
X-APPLE-STRUCTURED-LOCATION;VALUE=URI;X-ADDRESS=Great Yarmouth & Caister Beach House Caister on Sea Great Yarmouth Norfolk 01493728699;X-APPLE-RADIUS=500;X-TITLE=Beach House\, Caister on Sea\, Great Yarmouth\, Norfolk:geo:1.7350159,52.6394911
END:VEVENT
BEGIN:VEVENT
DTSTART;VALUE=DATE:20240601
DTEND;VALUE=DATE:20240602
DTSTAMP:20260424T174703
CREATED:20240121T103151Z
LAST-MODIFIED:20240121T140453Z
UID:10000534-1717200000-1717286399@norfolkcountygolfunion.co.uk
SUMMARY:Seniors v Norfolk Ladies
DESCRIPTION:
URL:https://norfolkcountygolfunion.co.uk/event/seniors-v-norfolk-ladies/
LOCATION:Great Yarmouth & Caister\, Beach House\, Caister on Sea\, Great Yarmouth\, Norfolk\, 01493728699
CATEGORIES:Seniors
GEO:52.6394911;1.7350159
X-APPLE-STRUCTURED-LOCATION;VALUE=URI;X-ADDRESS=Great Yarmouth & Caister Beach House Caister on Sea Great Yarmouth Norfolk 01493728699;X-APPLE-RADIUS=500;X-TITLE=Beach House\, Caister on Sea\, Great Yarmouth\, Norfolk:geo:1.7350159,52.6394911
END:VEVENT
BEGIN:VEVENT
DTSTART;VALUE=DATE:20240324
DTEND;VALUE=DATE:20240325
DTSTAMP:20260424T174703
CREATED:20240121T103102Z
LAST-MODIFIED:20240121T122238Z
UID:10000514-1711238400-1711324799@norfolkcountygolfunion.co.uk
SUMMARY:Clymer Bowl
DESCRIPTION:
URL:https://norfolkcountygolfunion.co.uk/event/clymer-bowl-2/
LOCATION:Great Yarmouth & Caister\, Beach House\, Caister on Sea\, Great Yarmouth\, Norfolk\, 01493728699
CATEGORIES:Mens
GEO:52.6394911;1.7350159
X-APPLE-STRUCTURED-LOCATION;VALUE=URI;X-ADDRESS=Great Yarmouth & Caister Beach House Caister on Sea Great Yarmouth Norfolk 01493728699;X-APPLE-RADIUS=500;X-TITLE=Beach House\, Caister on Sea\, Great Yarmouth\, Norfolk:geo:1.7350159,52.6394911
END:VEVENT
BEGIN:VEVENT
DTSTART;VALUE=DATE:20230518
DTEND;VALUE=DATE:20230519
DTSTAMP:20260424T174703
CREATED:20230410T141651Z
LAST-MODIFIED:20240121T103645Z
UID:10000366-1684368000-1684454399@norfolkcountygolfunion.co.uk
SUMMARY:Senior Team vs Suffolk
DESCRIPTION:
URL:https://norfolkcountygolfunion.co.uk/event/senior-team-vs-suffolk/
LOCATION:Great Yarmouth & Caister\, Beach House\, Caister on Sea\, Great Yarmouth\, Norfolk\, 01493728699
CATEGORIES:Seniors
GEO:52.6394911;1.7350159
X-APPLE-STRUCTURED-LOCATION;VALUE=URI;X-ADDRESS=Great Yarmouth & Caister Beach House Caister on Sea Great Yarmouth Norfolk 01493728699;X-APPLE-RADIUS=500;X-TITLE=Beach House\, Caister on Sea\, Great Yarmouth\, Norfolk:geo:1.7350159,52.6394911
END:VEVENT
END:VCALENDAR