BEGIN:VCALENDAR
VERSION:2.0
PRODID:-//Norfolk County Golf Union - ECPv6.13.2.1//NONSGML v1.0//EN
CALSCALE:GREGORIAN
METHOD:PUBLISH
X-ORIGINAL-URL:https://norfolkcountygolfunion.co.uk
X-WR-CALDESC:Events for Norfolk County Golf Union
REFRESH-INTERVAL;VALUE=DURATION:PT1H
X-Robots-Tag:noindex
X-PUBLISHED-TTL:PT1H
BEGIN:VTIMEZONE
TZID:Europe/London
BEGIN:DAYLIGHT
TZOFFSETFROM:+0000
TZOFFSETTO:+0100
TZNAME:BST
DTSTART:20240331T010000
END:DAYLIGHT
BEGIN:STANDARD
TZOFFSETFROM:+0100
TZOFFSETTO:+0000
TZNAME:GMT
DTSTART:20241027T010000
END:STANDARD
END:VTIMEZONE
BEGIN:VEVENT
DTSTART;VALUE=DATE:20240717
DTEND;VALUE=DATE:20240720
DTSTAMP:20260419T144101
CREATED:20240121T103247Z
LAST-MODIFIED:20240402T130122Z
UID:10000561-1721174400-1721433599@norfolkcountygolfunion.co.uk
SUMMARY:Seniors SE Qualifier 6 Man Team
DESCRIPTION:
URL:https://norfolkcountygolfunion.co.uk/event/seniors-se-qualifier-6-man-team-2/
LOCATION:Heythrop Park\, Enstone\, Chipping Norton\, Oxfordshire\, OX7 5UE
CATEGORIES:Seniors
GEO:51.9353565;-1.4720199
X-APPLE-STRUCTURED-LOCATION;VALUE=URI;X-ADDRESS=Heythrop Park Enstone Chipping Norton Oxfordshire OX7 5UE;X-APPLE-RADIUS=500;X-TITLE=Enstone:geo:-1.4720199,51.9353565
END:VEVENT
END:VCALENDAR